BEGIN:VCALENDAR
VERSION:2.0
PRODID:-//Spielmannszug Barlo - ECPv6.15.20//NONSGML v1.0//EN
CALSCALE:GREGORIAN
METHOD:PUBLISH
X-WR-CALNAME:Spielmannszug Barlo
X-ORIGINAL-URL:https://spielmannszug.jansen.work
X-WR-CALDESC:Veranstaltungen für Spielmannszug Barlo
REFRESH-INTERVAL;VALUE=DURATION:PT1H
X-Robots-Tag:noindex
X-PUBLISHED-TTL:PT1H
BEGIN:VTIMEZONE
TZID:Europe/Berlin
BEGIN:DAYLIGHT
TZOFFSETFROM:+0100
TZOFFSETTO:+0200
TZNAME:CEST
DTSTART:20250330T010000
END:DAYLIGHT
BEGIN:STANDARD
TZOFFSETFROM:+0200
TZOFFSETTO:+0100
TZNAME:CET
DTSTART:20251026T010000
END:STANDARD
BEGIN:DAYLIGHT
TZOFFSETFROM:+0100
TZOFFSETTO:+0200
TZNAME:CEST
DTSTART:20260329T010000
END:DAYLIGHT
BEGIN:STANDARD
TZOFFSETFROM:+0200
TZOFFSETTO:+0100
TZNAME:CET
DTSTART:20261025T010000
END:STANDARD
BEGIN:DAYLIGHT
TZOFFSETFROM:+0100
TZOFFSETTO:+0200
TZNAME:CEST
DTSTART:20270328T010000
END:DAYLIGHT
BEGIN:STANDARD
TZOFFSETFROM:+0200
TZOFFSETTO:+0100
TZNAME:CET
DTSTART:20271031T010000
END:STANDARD
END:VTIMEZONE
BEGIN:VEVENT
DTSTART;TZID=Europe/Berlin:20260511T000000
DTEND;TZID=Europe/Berlin:20260511T000000
DTSTAMP:20260419T180931
CREATED:20260225T213743Z
LAST-MODIFIED:20260225T213814Z
UID:130-1778457600-1778457600@spielmannszug.jansen.work
SUMMARY:Schützenfest Hemden
DESCRIPTION:
URL:https://spielmannszug.jansen.work/event/schuetzenfest-hemden/
END:VEVENT
BEGIN:VEVENT
DTSTART;TZID=Europe/Berlin:20260520T000000
DTEND;TZID=Europe/Berlin:20260520T000000
DTSTAMP:20260419T180931
CREATED:20260225T213744Z
LAST-MODIFIED:20260225T213814Z
UID:131-1779235200-1779235200@spielmannszug.jansen.work
SUMMARY:Frühlingsfest Spielplatz Barlo
DESCRIPTION:
URL:https://spielmannszug.jansen.work/event/fruehlingsfest-spielplatz-barlo/
END:VEVENT
BEGIN:VEVENT
DTSTART;TZID=Europe/Berlin:20260525T000000
DTEND;TZID=Europe/Berlin:20260525T000000
DTSTAMP:20260419T180931
CREATED:20260225T213744Z
LAST-MODIFIED:20260225T213814Z
UID:132-1779667200-1779667200@spielmannszug.jansen.work
SUMMARY:Schützenfest Stenern
DESCRIPTION:
URL:https://spielmannszug.jansen.work/event/schuetzenfest-stenern/
END:VEVENT
BEGIN:VEVENT
DTSTART;TZID=Europe/Berlin:20260527T000000
DTEND;TZID=Europe/Berlin:20260527T000000
DTSTAMP:20260419T180931
CREATED:20260225T213744Z
LAST-MODIFIED:20260225T213814Z
UID:133-1779840000-1779840000@spielmannszug.jansen.work
SUMMARY:Schützenfest Stenern
DESCRIPTION:
URL:https://spielmannszug.jansen.work/event/schuetzenfest-stenern-2/
END:VEVENT
END:VCALENDAR