BEGIN:VCALENDAR
VERSION:2.0
PRODID:-//Spielmannszug Barlo - ECPv6.15.20//NONSGML v1.0//EN
CALSCALE:GREGORIAN
METHOD:PUBLISH
X-ORIGINAL-URL:https://spielmannszug.jansen.work
X-WR-CALDESC:Veranstaltungen für Spielmannszug Barlo
REFRESH-INTERVAL;VALUE=DURATION:PT1H
X-Robots-Tag:noindex
X-PUBLISHED-TTL:PT1H
BEGIN:VTIMEZONE
TZID:Europe/Berlin
BEGIN:DAYLIGHT
TZOFFSETFROM:+0100
TZOFFSETTO:+0200
TZNAME:CEST
DTSTART:20250330T010000
END:DAYLIGHT
BEGIN:STANDARD
TZOFFSETFROM:+0200
TZOFFSETTO:+0100
TZNAME:CET
DTSTART:20251026T010000
END:STANDARD
BEGIN:DAYLIGHT
TZOFFSETFROM:+0100
TZOFFSETTO:+0200
TZNAME:CEST
DTSTART:20260329T010000
END:DAYLIGHT
BEGIN:STANDARD
TZOFFSETFROM:+0200
TZOFFSETTO:+0100
TZNAME:CET
DTSTART:20261025T010000
END:STANDARD
BEGIN:DAYLIGHT
TZOFFSETFROM:+0100
TZOFFSETTO:+0200
TZNAME:CEST
DTSTART:20270328T010000
END:DAYLIGHT
BEGIN:STANDARD
TZOFFSETFROM:+0200
TZOFFSETTO:+0100
TZNAME:CET
DTSTART:20271031T010000
END:STANDARD
END:VTIMEZONE
BEGIN:VEVENT
DTSTART;TZID=Europe/Berlin:20260210T000000
DTEND;TZID=Europe/Berlin:20260210T000000
DTSTAMP:20260419T194411
CREATED:20260225T213736Z
LAST-MODIFIED:20260225T213748Z
UID:124-1770681600-1770681600@spielmannszug.jansen.work
SUMMARY:Wurst aufholen (ab 16 Jahre)
DESCRIPTION:
URL:https://spielmannszug.jansen.work/event/wurst-aufholen-ab-16-jahre/
END:VEVENT
BEGIN:VEVENT
DTSTART;TZID=Europe/Berlin:20260216T000000
DTEND;TZID=Europe/Berlin:20260218T000000
DTSTAMP:20260419T194411
CREATED:20260225T213736Z
LAST-MODIFIED:20260225T213748Z
UID:125-1771200000-1771372800@spielmannszug.jansen.work
SUMMARY:musikalisches Wochenende
DESCRIPTION:
URL:https://spielmannszug.jansen.work/event/musikalisches-wochenende/
END:VEVENT
END:VCALENDAR