BEGIN:VCALENDAR
VERSION:2.0
PRODID:-//Spielmannszug Barlo - ECPv6.15.20//NONSGML v1.0//EN
CALSCALE:GREGORIAN
METHOD:PUBLISH
X-WR-CALNAME:Spielmannszug Barlo
X-ORIGINAL-URL:https://spielmannszug.jansen.work
X-WR-CALDESC:Veranstaltungen für Spielmannszug Barlo
REFRESH-INTERVAL;VALUE=DURATION:PT1H
X-Robots-Tag:noindex
X-PUBLISHED-TTL:PT1H
BEGIN:VTIMEZONE
TZID:Europe/Berlin
BEGIN:DAYLIGHT
TZOFFSETFROM:+0100
TZOFFSETTO:+0200
TZNAME:CEST
DTSTART:20250330T010000
END:DAYLIGHT
BEGIN:STANDARD
TZOFFSETFROM:+0200
TZOFFSETTO:+0100
TZNAME:CET
DTSTART:20251026T010000
END:STANDARD
BEGIN:DAYLIGHT
TZOFFSETFROM:+0100
TZOFFSETTO:+0200
TZNAME:CEST
DTSTART:20260329T010000
END:DAYLIGHT
BEGIN:STANDARD
TZOFFSETFROM:+0200
TZOFFSETTO:+0100
TZNAME:CET
DTSTART:20261025T010000
END:STANDARD
BEGIN:DAYLIGHT
TZOFFSETFROM:+0100
TZOFFSETTO:+0200
TZNAME:CEST
DTSTART:20270328T010000
END:DAYLIGHT
BEGIN:STANDARD
TZOFFSETFROM:+0200
TZOFFSETTO:+0100
TZNAME:CET
DTSTART:20271031T010000
END:STANDARD
END:VTIMEZONE
BEGIN:VEVENT
DTSTART;TZID=Europe/Berlin:20260109T183000
DTEND;TZID=Europe/Berlin:20260109T183000
DTSTAMP:20260419T231359
CREATED:20260225T213735Z
LAST-MODIFIED:20260225T213735Z
UID:119-1767983400-1767983400@spielmannszug.jansen.work
SUMMARY:Jugendversammlung
DESCRIPTION:
URL:https://spielmannszug.jansen.work/event/jugendversammlung/
END:VEVENT
BEGIN:VEVENT
DTSTART;TZID=Europe/Berlin:20260109T190000
DTEND;TZID=Europe/Berlin:20260109T190000
DTSTAMP:20260419T231359
CREATED:20260225T213735Z
LAST-MODIFIED:20260225T213735Z
UID:120-1767985200-1767985200@spielmannszug.jansen.work
SUMMARY:Spielerversammlung
DESCRIPTION:
URL:https://spielmannszug.jansen.work/event/spielerversammlung/
END:VEVENT
END:VCALENDAR